Package: SCArray Version: 1.14.0 Command: /Library/Frameworks/R.framework/Resources/bin/R CMD build --keep-empty-dirs --no-resave-data SCArray StartedAt: 2025-04-01 06:53:00 -0400 (Tue, 01 Apr 2025) EndedAt: 2025-04-01 06:54:42 -0400 (Tue, 01 Apr 2025) EllapsedTime: 102.0 seconds RetCode: 0 Status: OK PackageFile: SCArray_1.14.0.tar.gz PackageFileSize: 1.367 MiB