Package: SCBN Version: 1.24.0 Command: /Library/Frameworks/R.framework/Resources/bin/R CMD INSTALL SCBN StartedAt: 2025-03-31 15:04:04 -0400 (Mon, 31 Mar 2025) EndedAt: 2025-03-31 15:04:07 -0400 (Mon, 31 Mar 2025) EllapsedTime: 3.5 seconds RetCode: 0 Status: OK