Package: SIMLR Version: 1.32.0 Command: /Library/Frameworks/R.framework/Resources/bin/R CMD INSTALL SIMLR StartedAt: 2025-03-31 15:14:30 -0400 (Mon, 31 Mar 2025) EndedAt: 2025-03-31 15:14:49 -0400 (Mon, 31 Mar 2025) EllapsedTime: 18.8 seconds RetCode: 0 Status: OK