Package: SIMLR Version: 1.32.0 Command: /home/biocbuild/R/R/bin/R CMD build --keep-empty-dirs --no-resave-data SIMLR StartedAt: 2025-04-01 02:43:57 -0000 (Tue, 01 Apr 2025) EndedAt: 2025-04-01 02:45:45 -0000 (Tue, 01 Apr 2025) EllapsedTime: 107.1 seconds RetCode: 0 Status: OK PackageFile: SIMLR_1.32.0.tar.gz PackageFileSize: 4.099 MiB