Package: SeqArray Version: 1.46.3 Command: /Library/Frameworks/R.framework/Resources/bin/R CMD INSTALL SeqArray StartedAt: 2025-03-31 15:40:46 -0400 (Mon, 31 Mar 2025) EndedAt: 2025-03-31 15:42:12 -0400 (Mon, 31 Mar 2025) EllapsedTime: 85.9 seconds RetCode: 0 Status: OK