Package: SeqGate Version: 1.16.0 Command: /Library/Frameworks/R.framework/Resources/bin/R CMD build --keep-empty-dirs --no-resave-data SeqGate StartedAt: 2025-04-01 07:39:33 -0400 (Tue, 01 Apr 2025) EndedAt: 2025-04-01 07:40:26 -0400 (Tue, 01 Apr 2025) EllapsedTime: 53.8 seconds RetCode: 0 Status: OK PackageFile: SeqGate_1.16.0.tar.gz PackageFileSize: 248.6 KiB