Package: SimFFPE Version: 1.18.0 Command: /Library/Frameworks/R.framework/Resources/bin/R CMD build --keep-empty-dirs --no-resave-data SimFFPE StartedAt: 2025-04-01 07:54:52 -0400 (Tue, 01 Apr 2025) EndedAt: 2025-04-01 07:56:50 -0400 (Tue, 01 Apr 2025) EllapsedTime: 118.7 seconds RetCode: 0 Status: OK PackageFile: SimFFPE_1.18.0.tar.gz PackageFileSize: 748.5 KiB