Package: SparseArray Version: 1.6.2 Command: /home/biocbuild/R/R/bin/R CMD build --keep-empty-dirs --no-resave-data SparseArray StartedAt: 2025-04-01 02:50:37 -0000 (Tue, 01 Apr 2025) EndedAt: 2025-04-01 02:51:47 -0000 (Tue, 01 Apr 2025) EllapsedTime: 70.0 seconds RetCode: 1 Status: ERROR PackageFile: None PackageFileSize: NA