Package: SpatialFeatureExperiment Version: 1.8.6 Command: /Library/Frameworks/R.framework/Resources/bin/R CMD INSTALL SpatialFeatureExperiment StartedAt: 2025-03-31 17:20:07 -0400 (Mon, 31 Mar 2025) EndedAt: 2025-03-31 17:21:09 -0400 (Mon, 31 Mar 2025) EllapsedTime: 62.4 seconds RetCode: 0 Status: OK