Package: SpatialFeatureExperiment Version: 1.8.6 Command: F:\biocbuild\bbs-3.20-bioc\R\bin\R.exe CMD INSTALL SpatialFeatureExperiment StartedAt: 2025-03-31 16:39:06 -0400 (Mon, 31 Mar 2025) EndedAt: 2025-03-31 17:04:56 -0400 (Mon, 31 Mar 2025) EllapsedTime: 1550.1 seconds RetCode: 0 Status: OK