Package: SpatialOmicsOverlay Version: 1.6.0 Command: /home/biocbuild/R/R/bin/R CMD INSTALL SpatialOmicsOverlay StartedAt: 2025-03-31 20:45:59 -0000 (Mon, 31 Mar 2025) EndedAt: 2025-03-31 20:46:40 -0000 (Mon, 31 Mar 2025) EllapsedTime: 40.8 seconds RetCode: 0 Status: OK