Package: Structstrings Version: 1.22.1 Command: rm -rf Structstrings.buildbin-libdir && mkdir Structstrings.buildbin-libdir && /Users/biocbuild/BBS/utils/build-universal.sh Structstrings_1.22.1.tar.gz /Library/Frameworks/R.framework/Resources/bin/R Structstrings.buildbin-libdir StartedAt: 2025-04-01 12:52:31 -0400 (Tue, 01 Apr 2025) EndedAt: 2025-04-01 12:53:13 -0400 (Tue, 01 Apr 2025) EllapsedTime: 42.8 seconds RetCode: 0 Status: OK PackageFile: Structstrings_1.22.1.tgz PackageFileSize: 803.8 KiB