Package: StructuralVariantAnnotation Version: 1.22.0 Command: F:\biocbuild\bbs-3.20-bioc\R\bin\R.exe CMD INSTALL StructuralVariantAnnotation StartedAt: 2025-03-31 16:15:50 -0400 (Mon, 31 Mar 2025) EndedAt: 2025-03-31 16:17:48 -0400 (Mon, 31 Mar 2025) EllapsedTime: 117.9 seconds RetCode: 0 Status: OK