Package: SummarizedExperiment Version: 1.36.0 Command: /home/biocbuild/R/R/bin/R CMD INSTALL SummarizedExperiment StartedAt: 2025-03-31 20:19:55 -0000 (Mon, 31 Mar 2025) EndedAt: 2025-03-31 20:20:31 -0000 (Mon, 31 Mar 2025) EllapsedTime: 35.8 seconds RetCode: 0 Status: OK