Package: TCGAbiolinks Version: 2.34.1 Command: /home/biocbuild/R/R/bin/R CMD INSTALL TCGAbiolinks StartedAt: 2025-03-31 20:39:25 -0000 (Mon, 31 Mar 2025) EndedAt: 2025-03-31 20:40:18 -0000 (Mon, 31 Mar 2025) EllapsedTime: 53.6 seconds RetCode: 0 Status: OK