Package: TOP Version: 1.6.0 Command: /Library/Frameworks/R.framework/Resources/bin/R CMD INSTALL TOP StartedAt: 2025-03-31 18:11:27 -0400 (Mon, 31 Mar 2025) EndedAt: 2025-03-31 18:12:02 -0400 (Mon, 31 Mar 2025) EllapsedTime: 34.7 seconds RetCode: 0 Status: OK