Package: TTMap Version: 1.28.0 Command: /Library/Frameworks/R.framework/Resources/bin/R CMD build --keep-empty-dirs --no-resave-data TTMap StartedAt: 2025-04-01 09:36:56 -0400 (Tue, 01 Apr 2025) EndedAt: 2025-04-01 09:37:58 -0400 (Tue, 01 Apr 2025) EllapsedTime: 61.4 seconds RetCode: 0 Status: OK PackageFile: TTMap_1.28.0.tar.gz PackageFileSize: 1.61 MiB