Package: TTMap Version: 1.28.0 Command: /Library/Frameworks/R.framework/Resources/bin/R CMD build --keep-empty-dirs --no-resave-data TTMap StartedAt: 2025-03-31 22:43:33 -0400 (Mon, 31 Mar 2025) EndedAt: 2025-03-31 22:45:26 -0400 (Mon, 31 Mar 2025) EllapsedTime: 113.8 seconds RetCode: 0 Status: OK PackageFile: TTMap_1.28.0.tar.gz PackageFileSize: 1.61 MiB