Package: TileDBArray Version: 1.16.0 Command: chmod a+r TileDBArray -R && F:\biocbuild\bbs-3.20-bioc\R\bin\R.exe CMD build --keep-empty-dirs --no-resave-data TileDBArray StartedAt: 2025-03-31 22:22:44 -0400 (Mon, 31 Mar 2025) EndedAt: 2025-03-31 22:23:43 -0400 (Mon, 31 Mar 2025) EllapsedTime: 59.0 seconds RetCode: 0 Status: OK PackageFile: TileDBArray_1.16.0.tar.gz PackageFileSize: 305.2 KiB