Package: TileDBArray Version: 1.16.0 Command: /home/biocbuild/R/R/bin/R CMD INSTALL TileDBArray StartedAt: 2025-03-31 20:23:13 -0000 (Mon, 31 Mar 2025) EndedAt: 2025-03-31 20:23:16 -0000 (Mon, 31 Mar 2025) EllapsedTime: 2.9 seconds RetCode: 1 Status: ERROR