Package: TrajectoryUtils Version: 1.14.0 Command: /Library/Frameworks/R.framework/Resources/bin/R CMD INSTALL TrajectoryUtils StartedAt: 2025-03-31 15:19:00 -0400 (Mon, 31 Mar 2025) EndedAt: 2025-03-31 15:19:50 -0400 (Mon, 31 Mar 2025) EllapsedTime: 50.2 seconds RetCode: 0 Status: OK