Package: TrajectoryUtils Version: 1.14.0 Command: /home/biocbuild/R/R/bin/R CMD INSTALL TrajectoryUtils StartedAt: 2025-03-31 20:23:01 -0000 (Mon, 31 Mar 2025) EndedAt: 2025-03-31 20:23:30 -0000 (Mon, 31 Mar 2025) EllapsedTime: 28.8 seconds RetCode: 0 Status: OK