Package: TreeSummarizedExperiment Version: 2.14.0 Command: /Library/Frameworks/R.framework/Resources/bin/R CMD build --keep-empty-dirs --no-resave-data TreeSummarizedExperiment StartedAt: 2025-03-31 22:41:16 -0400 (Mon, 31 Mar 2025) EndedAt: 2025-03-31 22:43:23 -0400 (Mon, 31 Mar 2025) EllapsedTime: 126.9 seconds RetCode: 0 Status: OK PackageFile: TreeSummarizedExperiment_2.14.0.tar.gz PackageFileSize: 1.104 MiB