Package: UniProt.ws Version: 2.46.1 Command: /home/biocbuild/bbs-3.20-bioc/R/bin/R CMD INSTALL UniProt.ws StartedAt: 2025-03-31 15:29:21 -0400 (Mon, 31 Mar 2025) EndedAt: 2025-03-31 15:29:35 -0400 (Mon, 31 Mar 2025) EllapsedTime: 13.7 seconds RetCode: 0 Status: OK