Package: VariantTools Version: 1.48.0 Command: /home/biocbuild/R/R/bin/R CMD INSTALL VariantTools StartedAt: 2025-03-31 20:34:57 -0000 (Mon, 31 Mar 2025) EndedAt: 2025-03-31 20:35:48 -0000 (Mon, 31 Mar 2025) EllapsedTime: 51.0 seconds RetCode: 0 Status: OK