Package: VplotR Version: 1.16.0 Command: /Library/Frameworks/R.framework/Resources/bin/R CMD INSTALL VplotR StartedAt: 2025-03-31 15:53:14 -0400 (Mon, 31 Mar 2025) EndedAt: 2025-03-31 15:53:47 -0400 (Mon, 31 Mar 2025) EllapsedTime: 33.0 seconds RetCode: 0 Status: OK