Package: a4Classif Version: 1.54.0 Command: /home/biocbuild/R/R/bin/R CMD INSTALL a4Classif StartedAt: 2025-03-31 20:55:13 -0000 (Mon, 31 Mar 2025) EndedAt: 2025-03-31 20:55:21 -0000 (Mon, 31 Mar 2025) EllapsedTime: 8.5 seconds RetCode: 0 Status: OK