Package: abseqR Version: 1.24.0 Command: /home/biocbuild/R/R/bin/R CMD INSTALL abseqR StartedAt: 2025-03-31 20:45:19 -0000 (Mon, 31 Mar 2025) EndedAt: 2025-03-31 20:45:35 -0000 (Mon, 31 Mar 2025) EllapsedTime: 16.2 seconds RetCode: 0 Status: OK