Package: aggregateBioVar Version: 1.16.0 Command: /home/biocbuild/R/R/bin/R CMD INSTALL aggregateBioVar StartedAt: 2025-03-31 20:23:16 -0000 (Mon, 31 Mar 2025) EndedAt: 2025-03-31 20:23:43 -0000 (Mon, 31 Mar 2025) EllapsedTime: 27.6 seconds RetCode: 0 Status: OK