Package: annotate Version: 1.84.0 Command: /Library/Frameworks/R.framework/Resources/bin/R CMD build --keep-empty-dirs --no-resave-data annotate StartedAt: 2025-03-31 16:52:37 -0400 (Mon, 31 Mar 2025) EndedAt: 2025-03-31 16:55:48 -0400 (Mon, 31 Mar 2025) EllapsedTime: 191.1 seconds RetCode: 0 Status: OK PackageFile: annotate_1.84.0.tar.gz PackageFileSize: 1.785 MiB