Package: annotate Version: 1.84.0 Command: /home/biocbuild/R/R/bin/R CMD build --keep-empty-dirs --no-resave-data annotate StartedAt: 2025-03-31 21:20:25 -0000 (Mon, 31 Mar 2025) EndedAt: 2025-03-31 21:21:46 -0000 (Mon, 31 Mar 2025) EllapsedTime: 81.0 seconds RetCode: 0 Status: OK PackageFile: annotate_1.84.0.tar.gz PackageFileSize: 1.816 MiB