Package: annotatr Version: 1.32.0 Command: /Library/Frameworks/R.framework/Resources/bin/R CMD INSTALL annotatr StartedAt: 2025-03-31 15:36:42 -0400 (Mon, 31 Mar 2025) EndedAt: 2025-03-31 15:38:04 -0400 (Mon, 31 Mar 2025) EllapsedTime: 81.4 seconds RetCode: 0 Status: OK