Package: antiProfiles Version: 1.46.0 Command: /home/biocbuild/bbs-3.20-bioc/R/bin/R CMD INSTALL antiProfiles StartedAt: 2025-03-31 15:11:06 -0400 (Mon, 31 Mar 2025) EndedAt: 2025-03-31 15:11:14 -0400 (Mon, 31 Mar 2025) EllapsedTime: 8.9 seconds RetCode: 0 Status: OK