Package: apComplex Version: 2.72.0 Command: /Library/Frameworks/R.framework/Resources/bin/R CMD INSTALL apComplex StartedAt: 2025-03-31 15:47:18 -0400 (Mon, 31 Mar 2025) EndedAt: 2025-03-31 15:47:35 -0400 (Mon, 31 Mar 2025) EllapsedTime: 16.7 seconds RetCode: 0 Status: OK