Package: apComplex Version: 2.72.0 Command: /Library/Frameworks/R.framework/Resources/bin/R CMD build --keep-empty-dirs --no-resave-data apComplex StartedAt: 2025-03-31 16:54:40 -0400 (Mon, 31 Mar 2025) EndedAt: 2025-03-31 16:55:32 -0400 (Mon, 31 Mar 2025) EllapsedTime: 51.7 seconds RetCode: 0 Status: OK PackageFile: apComplex_2.72.0.tar.gz PackageFileSize: 627.2 KiB