Package: arrayQualityMetrics Version: 3.62.0 Command: /home/biocbuild/R/R/bin/R CMD build --keep-empty-dirs --no-resave-data arrayQualityMetrics StartedAt: 2025-03-31 21:23:56 -0000 (Mon, 31 Mar 2025) EndedAt: 2025-03-31 21:31:37 -0000 (Mon, 31 Mar 2025) EllapsedTime: 460.1 seconds RetCode: 0 Status: OK PackageFile: arrayQualityMetrics_3.62.0.tar.gz PackageFileSize: 581.8 KiB