Package: atena Version: 1.12.0 Command: /Library/Frameworks/R.framework/Resources/bin/R CMD INSTALL atena StartedAt: 2025-03-31 15:58:07 -0400 (Mon, 31 Mar 2025) EndedAt: 2025-03-31 15:58:54 -0400 (Mon, 31 Mar 2025) EllapsedTime: 47.6 seconds RetCode: 0 Status: OK