Package: bambu Version: 3.8.3 Command: /home/biocbuild/bbs-3.20-bioc/R/bin/R CMD INSTALL bambu StartedAt: 2025-03-31 15:26:51 -0400 (Mon, 31 Mar 2025) EndedAt: 2025-03-31 15:27:44 -0400 (Mon, 31 Mar 2025) EllapsedTime: 52.7 seconds RetCode: 0 Status: OK