Package: basilisk Version: 1.18.0 Command: /home/biocbuild/R/R/bin/R CMD INSTALL basilisk StartedAt: 2025-03-31 20:17:07 -0000 (Mon, 31 Mar 2025) EndedAt: 2025-03-31 20:17:37 -0000 (Mon, 31 Mar 2025) EllapsedTime: 29.9 seconds RetCode: 0 Status: OK