Package: batchelor Version: 1.22.0 Command: /Library/Frameworks/R.framework/Resources/bin/R CMD build --keep-empty-dirs --no-resave-data batchelor StartedAt: 2025-03-31 19:08:07 -0400 (Mon, 31 Mar 2025) EndedAt: 2025-03-31 19:11:30 -0400 (Mon, 31 Mar 2025) EllapsedTime: 203.0 seconds RetCode: 0 Status: OK PackageFile: batchelor_1.22.0.tar.gz PackageFileSize: 2.137 MiB