Package: batchelor Version: 1.22.0 Command: /Library/Frameworks/R.framework/Resources/bin/R CMD INSTALL batchelor StartedAt: 2025-03-31 16:25:04 -0400 (Mon, 31 Mar 2025) EndedAt: 2025-03-31 16:26:34 -0400 (Mon, 31 Mar 2025) EllapsedTime: 89.1 seconds RetCode: 0 Status: OK