Package: bigmelon Version: 1.32.0 Command: /Library/Frameworks/R.framework/Resources/bin/R CMD INSTALL bigmelon StartedAt: 2025-03-31 16:39:35 -0400 (Mon, 31 Mar 2025) EndedAt: 2025-03-31 16:41:24 -0400 (Mon, 31 Mar 2025) EllapsedTime: 109.1 seconds RetCode: 0 Status: OK