Package: biocroxytest Version: 1.2.0 Command: /home/biocbuild/R/R/bin/R CMD INSTALL biocroxytest StartedAt: 2025-03-31 20:16:41 -0000 (Mon, 31 Mar 2025) EndedAt: 2025-03-31 20:16:51 -0000 (Mon, 31 Mar 2025) EllapsedTime: 10.1 seconds RetCode: 0 Status: OK