Package: biomaRt Version: 2.62.1 Command: /home/biocbuild/R/R/bin/R CMD INSTALL biomaRt StartedAt: 2025-03-31 20:38:32 -0000 (Mon, 31 Mar 2025) EndedAt: 2025-03-31 20:38:57 -0000 (Mon, 31 Mar 2025) EllapsedTime: 25.0 seconds RetCode: 0 Status: OK