Package: biosigner Version: 1.34.0 Command: /Library/Frameworks/R.framework/Resources/bin/R CMD INSTALL biosigner StartedAt: 2025-03-31 17:54:25 -0400 (Mon, 31 Mar 2025) EndedAt: 2025-03-31 17:54:56 -0400 (Mon, 31 Mar 2025) EllapsedTime: 30.5 seconds RetCode: 0 Status: OK