Package: biscuiteer Version: 1.20.0 Command: /Library/Frameworks/R.framework/Resources/bin/R CMD INSTALL biscuiteer StartedAt: 2025-03-31 15:49:02 -0400 (Mon, 31 Mar 2025) EndedAt: 2025-03-31 15:51:13 -0400 (Mon, 31 Mar 2025) EllapsedTime: 131.6 seconds RetCode: 0 Status: OK