Package: blima Version: 1.40.0 Command: /Library/Frameworks/R.framework/Resources/bin/R CMD INSTALL blima StartedAt: 2025-03-31 15:37:02 -0400 (Mon, 31 Mar 2025) EndedAt: 2025-03-31 15:37:51 -0400 (Mon, 31 Mar 2025) EllapsedTime: 48.6 seconds RetCode: 0 Status: OK