Package: branchpointer Version: 1.32.0 Command: rm -rf branchpointer.buildbin-libdir && mkdir branchpointer.buildbin-libdir && /Users/biocbuild/BBS/utils/build-universal.sh branchpointer_1.32.0.tar.gz /Library/Frameworks/R.framework/Resources/bin/R branchpointer.buildbin-libdir StartedAt: 2025-04-01 11:30:47 -0400 (Tue, 01 Apr 2025) EndedAt: 2025-04-01 11:32:32 -0400 (Tue, 01 Apr 2025) EllapsedTime: 104.3 seconds RetCode: 0 Status: OK PackageFile: branchpointer_1.32.0.tgz PackageFileSize: 4.316 MiB