Package: cTRAP Version: 1.24.0 Command: /Library/Frameworks/R.framework/Resources/bin/R CMD INSTALL cTRAP StartedAt: 2025-03-31 17:07:12 -0400 (Mon, 31 Mar 2025) EndedAt: 2025-03-31 17:07:46 -0400 (Mon, 31 Mar 2025) EllapsedTime: 34.3 seconds RetCode: 0 Status: OK