Package: ccmap Version: 1.32.0 Command: /home/biocbuild/R/R/bin/R CMD INSTALL ccmap StartedAt: 2025-03-31 20:25:26 -0000 (Mon, 31 Mar 2025) EndedAt: 2025-03-31 20:25:45 -0000 (Mon, 31 Mar 2025) EllapsedTime: 18.9 seconds RetCode: 0 Status: OK